BEGIN:VCALENDAR
VERSION:2.0
PRODID:-//Tequila - ECPv6.15.11//NONSGML v1.0//EN
CALSCALE:GREGORIAN
METHOD:PUBLISH
X-ORIGINAL-URL:https://sergiorevelltequila.com
X-WR-CALDESC:Events for Tequila
REFRESH-INTERVAL;VALUE=DURATION:PT1H
X-Robots-Tag:noindex
X-PUBLISHED-TTL:PT1H
BEGIN:VTIMEZONE
TZID:UTC
BEGIN:STANDARD
TZOFFSETFROM:+0000
TZOFFSETTO:+0000
TZNAME:UTC
DTSTART:20240101T000000
END:STANDARD
END:VTIMEZONE
BEGIN:VEVENT
DTSTART;VALUE=DATE:20250607
DTEND;VALUE=DATE:20250608
DTSTAMP:20260423T122655
CREATED:20250619T083017Z
LAST-MODIFIED:20250703T121105Z
UID:1074-1749254400-1749340799@sergiorevelltequila.com
SUMMARY:Sundress $ Seersuckers 2025
DESCRIPTION:Gallery
URL:https://sergiorevelltequila.com/event/sundress-seersuckers-2025/
END:VEVENT
END:VCALENDAR